BEGIN:VCALENDAR
VERSION:2.0
PRODID:-//Plone.org//NONSGML plone.app.event//EN
X-WR-TIMEZONE:Europe/Madrid
BEGIN:VEVENT
SUMMARY:Acte de Graduació del CFIS 2018
DTSTART;TZID=Europe/Madrid:20181221T180000
DTSTAMP:20260424T154721Z
UID:b1924fd4bfdd445eaf44195fb4833f58@cfis.upc.edu
CREATED:20180719T101819Z
LAST-MODIFIED:20181122T083729Z
LOCATION:Auditori edif. Vèrtex de la UPC
URL:https://cfis.upc.edu/ca/esdeveniments/acte-de-graduacio-del-cfis-2018
END:VEVENT
BEGIN:VTIMEZONE
TZID:Europe/Madrid
X-LIC-LOCATION:Europe/Madrid
BEGIN:STANDARD
DTSTART:20181028T020000
TZNAME:CET
TZOFFSETFROM:+0200
TZOFFSETTO:+0100
END:STANDARD
END:VTIMEZONE
END:VCALENDAR
