BEGIN:VCALENDAR
VERSION:2.0
PRODID:-//Plone.org//NONSGML plone.app.event//EN
X-WR-TIMEZONE:Europe/Madrid
BEGIN:VEVENT
SUMMARY:Convocatòria Beca Equitat 2022/23
DTSTART;TZID=Europe/Madrid:20220915T090000
DTEND;TZID=Europe/Madrid:20221031T140000
DTSTAMP:20260424T194643Z
UID:9ecbea41bb914be8960186708635b5a6@cfis.upc.edu
CREATED:20220906T074407Z
LAST-MODIFIED:20220906T074413Z
LOCATION:https://www.upc.edu/sga/ca/Beques/BequesEstudi/BecaEquitat
URL:https://cfis.upc.edu/ca/esdeveniments/convocatoria-beca-equitat-2022-2
 3
END:VEVENT
BEGIN:VTIMEZONE
TZID:Europe/Madrid
X-LIC-LOCATION:Europe/Madrid
BEGIN:DAYLIGHT
DTSTART:20220327T030000
TZNAME:CEST
TZOFFSETFROM:+0100
TZOFFSETTO:+0200
END:DAYLIGHT
BEGIN:STANDARD
DTSTART:20221030T020000
TZNAME:CET
TZOFFSETFROM:+0200
TZOFFSETTO:+0100
END:STANDARD
END:VTIMEZONE
END:VCALENDAR
