BEGIN:VCALENDAR
VERSION:2.0
PRODID:-//Plone.org//NONSGML plone.app.event//EN
X-WR-TIMEZONE:Europe/Madrid
BEGIN:VEVENT
SUMMARY:Preinscripció al CFIS 2022-23
DTSTART;VALUE=DATE:20220419
DTEND;VALUE=DATE:20220516
DTSTAMP:20260425T020440Z
UID:2365da0f64d64ba4becb186ca6e38057@cfis.upc.edu
CREATED:20220225T125756Z
LAST-MODIFIED:20220225T130234Z
URL:https://cfis.upc.edu/ca/esdeveniments/preinscripcio-al-cfis-2022-23
END:VEVENT
END:VCALENDAR
