BEGIN:VCALENDAR
VERSION:2.0
PRODID:-//Plone.org//NONSGML plone.app.event//EN
X-WR-TIMEZONE:Europe/Madrid
BEGIN:VEVENT
SUMMARY:Secretaria tancada per pont
DTSTART;VALUE=DATE:20171206
DTEND;VALUE=DATE:20171209
DTSTAMP:20260425T215859Z
UID:8b0c86b055254c4486c24fd632d5547a@cfis.upc.edu
CREATED:20171127T103504Z
LAST-MODIFIED:20171127T103516Z
URL:https://cfis.upc.edu/ca/esdeveniments/secretaria-tancada-per-pont
END:VEVENT
END:VCALENDAR
