BEGIN:VCALENDAR
VERSION:2.0
PRODID:-//Plone.org//NONSGML plone.app.event//EN
X-WR-TIMEZONE:Europe/Madrid
BEGIN:VEVENT
SUMMARY:Secretaria tancada per pont (1 de maig)
DTSTART;VALUE=DATE:20180430
DTEND;VALUE=DATE:20180502
DTSTAMP:20260425T195038Z
UID:8e9e06aefd5b4b289ce5a36b777abbc1@cfis.upc.edu
CREATED:20180323T111647Z
LAST-MODIFIED:20180424T074307Z
URL:https://cfis.upc.edu/ca/esdeveniments/secretaria-tancada-per-setmana-s
 anta-1
END:VEVENT
END:VCALENDAR
