BEGIN:VCALENDAR
VERSION:2.0
PRODID:-//Plone.org//NONSGML plone.app.event//EN
X-WR-TIMEZONE:Europe/Madrid
BEGIN:VEVENT
SUMMARY:Sol·licitud Beca del MECD 2022-23
DTSTART;VALUE=DATE:20220330
DTEND;VALUE=DATE:20220517
DTSTAMP:20260424T150439Z
UID:ba0582f8f1ae4c9e8b34d7e81fbd7a4a@cfis.upc.edu
CREATED:20220324T145159Z
LAST-MODIFIED:20220512T081944Z
URL:https://cfis.upc.edu/ca/esdeveniments/sol-licitud-beca-del-mecd-2022-2
 3
END:VEVENT
END:VCALENDAR
